BEGIN:VCALENDAR
VERSION:2.0
PRODID:-//DPDK - ECPv6.15.20//NONSGML v1.0//EN
CALSCALE:GREGORIAN
METHOD:PUBLISH
X-WR-CALNAME:DPDK
X-ORIGINAL-URL:https://www.dpdk.org
X-WR-CALDESC:Events for DPDK
REFRESH-INTERVAL;VALUE=DURATION:PT1H
X-Robots-Tag:noindex
X-PUBLISHED-TTL:PT1H
BEGIN:VTIMEZONE
TZID:America/Los_Angeles
BEGIN:DAYLIGHT
TZOFFSETFROM:-0800
TZOFFSETTO:-0700
TZNAME:PDT
DTSTART:20130310T100000
END:DAYLIGHT
BEGIN:STANDARD
TZOFFSETFROM:-0700
TZOFFSETTO:-0800
TZNAME:PST
DTSTART:20131103T090000
END:STANDARD
BEGIN:DAYLIGHT
TZOFFSETFROM:-0800
TZOFFSETTO:-0700
TZNAME:PDT
DTSTART:20140309T100000
END:DAYLIGHT
BEGIN:STANDARD
TZOFFSETFROM:-0700
TZOFFSETTO:-0800
TZNAME:PST
DTSTART:20141102T090000
END:STANDARD
BEGIN:DAYLIGHT
TZOFFSETFROM:-0800
TZOFFSETTO:-0700
TZNAME:PDT
DTSTART:20150308T100000
END:DAYLIGHT
BEGIN:STANDARD
TZOFFSETFROM:-0700
TZOFFSETTO:-0800
TZNAME:PST
DTSTART:20151101T090000
END:STANDARD
END:VTIMEZONE
BEGIN:VEVENT
DTSTART;VALUE=DATE:20140908
DTEND;VALUE=DATE:20140909
DTSTAMP:20260423T124129
CREATED:20140908T200202Z
LAST-MODIFIED:20180914T150227Z
UID:727-1410134400-1410220799@www.dpdk.org
SUMMARY:DPDK Summit\, San Francisco
DESCRIPTION:DPDK Summit San Francisco 2014 – September 8\, 2014\nThe first DPDK Summit brought the DPDK open source community together at the San Francisco Marriott Marquis Hotel with the vision to share DPDK usage and implementation; to hear from DPDK developers\, contributors\, and users; and to build the DPDK community. \n\n\nDPDK Summit Kick-off\nJim St. Leger (Software Product Line Manager\, Intel) \nJim starts off the summit by discussing the objectives\, DPDK history\, the community\, and its contributors. \nSlides \n\nIs It Time to Revisit the IP Stack in the Linux Kernel and KVM?\nJun Xu (Principal Engineer\, Futurewei Technologies\, Inc.) \nWe might take too many things for granted\, like the Linux kernel providing a TCP/IP stack since its inception\, whereas UNIX did not. Fast forward to today’s world with virtualization\, where most hypervisors derived from modern OSs also supply an IP stack. Should we take out the IP stack to let the OS and hypervisor focus on their main tasks\, including process scheduling\, resource management\, and virtualization\, or let them be the monolithic piece for all these elements? \nVideo | Slides\n \n\nMulti-Socket Ferrari for NFV\nLászló Vadkerti (Lead Software Developer\, Ericsson)\, András Kovács (Lead Software Developer\, Ericsson) \nThis presentation describes an approach to support latency-sensitive applications by diving into best practices in augmenting DPDK to deliver lower jitter and high availability in addition to higher packet throughputs. We will review Enhanced Memory Management techniques and multi-process enhancements to the DPDK library foundation.We also will describe our experience and optimizations in using DPDK with a XEN Hypervisor including the addition of NUMA awareness. \nVideo | Slides\n \n\nLightning Fast I/O for Windows Server v.Next with PacketDirect\nGabriel Silva (Program Manager Windows Server Networking\, Microsoft) \nMicrosoft operates some of the world’s largest data centers\, such as Bing\, Office365\, Xbox Live\, and Azure\, to name a few. One of the key fundamentals enabling Microsoft to operate efficiently at such hyper scale is NIC performance. This talk addresses how to drive up packet processing performance for the network functions running in their data centers. \nVideo | Slides\n \n\nA High-Performance vSwitch of the User\, by the User\, for the User\n\nYoshihiro Nakajima (Researcher\, NTT Network Innovation Laboratories) \n\n\n\nA high-performance software switch is a key component for next-generation telecom infrastructure\, especially for NFV and SDN. NTT Laboratories developed a high-performance and highly-scalable SDN/OpenFlow software switch\, called Lagopus\, that leverages state-of-the-art server and software technologies\, including Intel® processors\, Intel® Ethernet Controllers\, and the DPDK. \n\n\nVideo | Slides\n \n\nApplication Performance Tuning and Future Optimizations in DPDK\nVenky Venkatesan (DPDK Architect\, Intel) \nIn this session\, one of the original authors of the DPDK library will share insight into how to best use the available tools and library hooks when looking to optimize system packet performance. The session will also provide insight into concepts under consideration to facilitate discussion and prioritization feedback into the future planning process. \nVideo | Slides\n \n\nDPDK in a Virtual World\nBhavesh Davda (Senior Staff Engineer\, VMware)\, Rashmin Patel (DPDK Virtualization Engineer\, Intel) \nThe usage of virtualized DPDK applications has increased tremendously. This session will review how the DPDK APIs take advantage of platform technologies like SR-IOV\, direct device assignment (VT-d) and para-virtual as well as emulated devices offered by the underlying platform to achieve higher packet throughput at predictable latency. The session will primarily focus on the virtualization options offered by DPDK for the VMware ESXi Hypervisor environment. The session will conclude by sharing the future vision and commitment to enhance the API even further to enable community developers and end users to get most out of underlying Intel Architecture and Hypervisor target. \nVideo | Slides\n \n\nHigh-Performance Networking Leveraging the DPDK and the Growing Community\nThomas Monjalon (Packet Processing Engineer and DPDK.org Maintainer\, 6WIND) \nHigh-performance networking stacks can be designed using the DPDK and packet processing software. This presentation covers the development of high-performance applications with examples for IPsec\, TCP\, virtual switching\, and virtual networking functions for NFV. \nVideo | Slides\n \n\nClosing Remarks\nTim O’Driscoll (Software Engineering Manager for DPDK\, Intel) \nTim brings the summit to a close by reviewing the DPDK open source journey\, soliciting feedback on the summit\, and discussing increased involvement in the DPDK community. \nVideo | Slides
URL:https://www.dpdk.org/event/dpdk-summit-san-francisco-2014/
LOCATION:San Francisco Marriott Marquis Hotel\, San Francisco\, CA\, United States
CATEGORIES:DPDK Summit
END:VEVENT
END:VCALENDAR