BEGIN:VCALENDAR
VERSION:2.0
PRODID:-//DPDK - ECPv6.15.20//NONSGML v1.0//EN
CALSCALE:GREGORIAN
METHOD:PUBLISH
X-WR-CALNAME:DPDK
X-ORIGINAL-URL:https://www.dpdk.org
X-WR-CALDESC:Events for DPDK
REFRESH-INTERVAL;VALUE=DURATION:PT1H
X-Robots-Tag:noindex
X-PUBLISHED-TTL:PT1H
BEGIN:VTIMEZONE
TZID:UTC
BEGIN:STANDARD
TZOFFSETFROM:+0000
TZOFFSETTO:+0000
TZNAME:UTC
DTSTART:20200101T000000
END:STANDARD
END:VTIMEZONE
BEGIN:VEVENT
DTSTART;VALUE=DATE:20210712
DTEND;VALUE=DATE:20210714
DTSTAMP:20260422T083423
CREATED:20210517T182719Z
LAST-MODIFIED:20210517T182719Z
UID:2172-1626048000-1626220799@www.dpdk.org
SUMMARY:DPDK Summit North America
DESCRIPTION:DPDK is an open source Data Plane Development Kit that consists of libraries to accelerate packet processing workloads running on a wide variety of CPU architectures. Designed to run on x86\, POWER and Arm processors\, it runs mostly in Linux userland\, with a FreeBSD port available for a subset of DPDK features. \nDPDK Summit North America is a community event designed to bring together software developers and others who contribute to or use DPDK. This year’s event will take place virtually. \nThe agenda for DPDK Summit North America will cover the latest DPDK developments and roadmap suggestions for future releases. This is a unique opportunity to meet the community to discuss challenges and innovations within the ecosystem. \nDates to Remember\n\n\nCFP Opens: Monday\, May 3 at 12:00 am PDT\nCFP Closes: Friday\, June 4 at 11:59 PM PDT\nSpeaker Notifications: Week of June 14\nSchedule Announcement: Week of June 14\nPresentation Slide Due Date: Tuesday\, July 6\nEvent Dates: Monday\, July 12 – Tuesday\, July 13\, 2021\n\n\nNorth America will cover the latest DPDK developments and roadmap suggestions for future releases. This is a unique opportunity to meet the community to discuss challenges and innovations within the ecosystem. \nVisit the event website to submit a CFP and register to attend: https://events.linuxfoundation.org/dpdk-summit-north-america/ \n 
URL:https://www.dpdk.org/event/dpdk-summit-north-america/
END:VEVENT
END:VCALENDAR