BEGIN:VCALENDAR
VERSION:2.0
PRODID:-//DPDK - ECPv6.15.20//NONSGML v1.0//EN
CALSCALE:GREGORIAN
METHOD:PUBLISH
X-WR-CALNAME:DPDK
X-ORIGINAL-URL:https://www.dpdk.org
X-WR-CALDESC:Events for DPDK
REFRESH-INTERVAL;VALUE=DURATION:PT1H
X-Robots-Tag:noindex
X-PUBLISHED-TTL:PT1H
BEGIN:VTIMEZONE
TZID:America/Los_Angeles
BEGIN:DAYLIGHT
TZOFFSETFROM:-0800
TZOFFSETTO:-0700
TZNAME:PDT
DTSTART:20180311T100000
END:DAYLIGHT
BEGIN:STANDARD
TZOFFSETFROM:-0700
TZOFFSETTO:-0800
TZNAME:PST
DTSTART:20181104T090000
END:STANDARD
BEGIN:DAYLIGHT
TZOFFSETFROM:-0800
TZOFFSETTO:-0700
TZNAME:PDT
DTSTART:20190310T100000
END:DAYLIGHT
BEGIN:STANDARD
TZOFFSETFROM:-0700
TZOFFSETTO:-0800
TZNAME:PST
DTSTART:20191103T090000
END:STANDARD
BEGIN:DAYLIGHT
TZOFFSETFROM:-0800
TZOFFSETTO:-0700
TZNAME:PDT
DTSTART:20200308T100000
END:DAYLIGHT
BEGIN:STANDARD
TZOFFSETFROM:-0700
TZOFFSETTO:-0800
TZNAME:PST
DTSTART:20201101T090000
END:STANDARD
END:VTIMEZONE
BEGIN:VEVENT
DTSTART;TZID=America/Los_Angeles:20190624T080000
DTEND;TZID=America/Los_Angeles:20190624T170000
DTSTAMP:20260424T210538
CREATED:20190319T201038Z
LAST-MODIFIED:20190705T201053Z
UID:1407-1561363200-1561395600@www.dpdk.org
SUMMARY:DPDK China\,  June 24th\, 2019
DESCRIPTION:[vc_row type=”in_container” full_screen_row_position=”middle” scene_position=”center” text_color=”dark” text_align=”left” overlay_strength=”0.3″ shape_divider_position=”bottom” bg_image_animation=”none”][vc_column column_padding=”no-extra-padding” column_padding_position=”all” background_color_opacity=”1″ background_hover_color_opacity=”1″ column_link_target=”_self” column_shadow=”none” column_border_radius=”none” width=”1/1″ tablet_width_inherit=”default” tablet_text_alignment=”default” phone_text_alignment=”default” column_border_width=”none” column_border_style=”solid” bg_image_animation=”none”][vc_column_text]\n\n[/vc_column_text][/vc_column][/vc_row][vc_row type=”in_container” full_screen_row_position=”middle” scene_position=”center” text_color=”dark” text_align=”left” overlay_strength=”0.3″ shape_divider_position=”bottom” bg_image_animation=”none”][vc_column column_padding=”no-extra-padding” column_padding_position=”all” background_color_opacity=”1″ background_hover_color_opacity=”1″ column_link_target=”_self” column_shadow=”none” column_border_radius=”none” width=”1/1″ tablet_width_inherit=”default” tablet_text_alignment=”default” phone_text_alignment=”default” column_border_width=”none” column_border_style=”solid” bg_image_animation=”none”][vc_column_text]DPDK Summit India featured talks and presentations covering the latest developments to the DPDK framework and other related projects such as FD.io\, Tungsten Fabric and OpenvSwitch\, including plans for future releases by contributors\, with a focus on DPDK users who have used the framework in their applications. \nThank you to all those who participated in this year’s event![/vc_column_text][/vc_column][/vc_row][vc_row type=”in_container” full_screen_row_position=”middle” scene_position=”center” text_color=”dark” text_align=”left” overlay_strength=”0.3″ shape_divider_position=”bottom” bg_image_animation=”none”][vc_column column_padding=”no-extra-padding” column_padding_position=”all” background_color_opacity=”1″ background_hover_color_opacity=”1″ column_link_target=”_self” column_shadow=”none” column_border_radius=”none” width=”1/1″ tablet_width_inherit=”default” tablet_text_alignment=”default” phone_text_alignment=”default” column_border_width=”none” column_border_style=”solid” bg_image_animation=”none”][nectar_btn size=”small” button_style=”regular” button_color_2=”Accent-Color” icon_family=”none” url=”https://www.youtube.com/playlist?list=PLo97Rhbj4ceIpqgEWAc6nWfaIuldgDH5h” text=”View Sessions Videos on YouTube”][/vc_column][/vc_row][vc_column centered_text=”true” column_padding=”no-extra-padding” column_padding_position=”all” background_color_opacity=”1″ background_hover_color_opacity=”1″ column_link_target=”_self” column_shadow=”none” column_border_radius=”none” width=”1/1″ tablet_width_inherit=”default” tablet_text_alignment=”default” phone_text_alignment=”default” column_border_width=”none” column_border_style=”solid” bg_image_animation=”none”][vc_column_text]\nSESSION SUMMARY\n[/vc_column_text][vc_column_text]To access the summary\, slides\, and video links for a specific session\, click on each of the tabs below.[/vc_column_text][/vc_column][vc_row type=”in_container” full_screen_row_position=”middle” scene_position=”center” text_color=”dark” text_align=”left” overlay_strength=”0.3″ shape_divider_position=”bottom” bg_image_animation=”none” shape_type=””][vc_column centered_text=”true” column_padding=”no-extra-padding” column_padding_position=”all” background_color_opacity=”1″ background_hover_color_opacity=”1″ column_link_target=”_self” column_shadow=”none” column_border_radius=”none” width=”1/1″ tablet_width_inherit=”default” tablet_text_alignment=”default” phone_text_alignment=”default” column_border_width=”none” column_border_style=”solid” bg_image_animation=”none”][toggles style=”minimal”][toggle color=”Default” title=”Opening”][vc_column_text]Opening\nJim St. Leger \n[icon color=”Accent-Color” size=”tiny” icon_size=”” image=”fa-youtube”] Watch Video »\n[icon color=”Accent-Color” size=”tiny” icon_size=”” image=”fa-file-pdf-o”] View Slides »[/vc_column_text][vc_column_text][/vc_column_text][/toggle][toggle color=”Default” title=”Archive stable high performance DPDK on modern multi-core CPU”][vc_column_text]Archive stable high performance DPDK on modern multi-core CPU\nTao Yang & Xuekun\, Intel\n \n[icon color=”Accent-Color” size=”tiny” icon_size=”” image=”fa-youtube”] Watch Video »\n[icon color=”Accent-Color” size=”tiny” icon_size=”” image=”fa-file-pdf-o”] View Slides »[/vc_column_text][vc_column_text][/vc_column_text][/toggle][toggle color=”Default” title=”DPDK IPsec: a scalable high performance library for your IPsec application”][vc_column_text]DPDK IPsec: a scalable high performance library for your IPsec application\nFan Zhang\, Cunming Liang\, Intel\n \n[icon color=”Accent-Color” size=”tiny” icon_size=”” image=”fa-youtube”] Watch Video »\n[icon color=”Accent-Color” size=”tiny” icon_size=”” image=”fa-file-pdf-o”] View Slides »[/vc_column_text][vc_column_text][/vc_column_text][/toggle][toggle color=”Default” title=”DPDK Slab Allocator and applied it to zero-copy stack”][vc_column_text]DPDK Slab Allocator and applied it to zero-copy stack\nYijun Hou\, Alibaba \n[icon color=”Accent-Color” size=”tiny” icon_size=”” image=”fa-youtube”] Watch Video »\n[icon color=”Accent-Color” size=”tiny” icon_size=”” image=”fa-file-pdf-o”] View Slides »[/vc_column_text][vc_column_text][/vc_column_text][/toggle][toggle color=”Default” title=”DPDK based userspace TCP/IP stack testing”][vc_column_text]DPDK based userspace TCP/IP stack testing: Shu Ma\, Alibaba\nShu Ma\, Alibaba \n[icon color=”Accent-Color” size=”tiny” icon_size=”” image=”fa-youtube”] Watch Video »\n[icon color=”Accent-Color” size=”tiny” icon_size=”” image=”fa-file-pdf-o”] View Slides »[/vc_column_text][vc_column_text][/vc_column_text][/toggle][toggle color=”Default” title=”Developing CI/CD for NICs DPDK PMD using DTS”][vc_column_text]Developing CI/CD for NICs DPDK PMD using DTS\n Ben-Shahar Belkar\, Toga Networks \n[icon color=”Accent-Color” size=”tiny” icon_size=”” image=”fa-youtube”] Watch Video »\n[icon color=”Accent-Color” size=”tiny” icon_size=”” image=”fa-file-pdf-o”] View Slides »[/vc_column_text][vc_column_text][/vc_column_text][/toggle][toggle color=”Default” title=”Building DPDK Unikernels with Unikraft”][vc_column_text]Building DPDK Unikernels with Unikraft\nSharan Santhanam\, NEC Laboratories Europe GmbH \n[icon color=”Accent-Color” size=”tiny” icon_size=”” image=”fa-youtube”] Watch Video »\n[icon color=”Accent-Color” size=”tiny” icon_size=”” image=”fa-file-pdf-o”] View Slides »[/vc_column_text][vc_column_text][/vc_column_text][/toggle][toggle color=”Default” title=”Networking Products Based on DPDK Integrated with Kubernetes Container Networking Contiv”][vc_column_text]Networking Products Based on DPDK Integrated with Kubernetes Container Networking Contiv\nZijiang Zhou\, Jingdong Digital \n \n[icon color=”Accent-Color” size=”tiny” icon_size=”” image=”fa-youtube”] Watch Video »\n[icon color=”Accent-Color” size=”tiny” icon_size=”” image=”fa-file-pdf-o”] View Slides »[/vc_column_text][vc_column_text][/vc_column_text][/toggle][toggle color=”Default” title=”5G Core network load test system with DPDK”][vc_column_text]5G Core network load test system with DPDK\nXiaohua Wang\, Ericsson \n[icon color=”Accent-Color” size=”tiny” icon_size=”” image=”fa-youtube”] Watch Video »\n[icon color=”Accent-Color” size=”tiny” icon_size=”” image=”fa-file-pdf-o”] View Slides »[/vc_column_text][vc_column_text][/vc_column_text][/toggle][toggle color=”Default” title=”DPDK: Accelerate Remote Rendering of Cloud Gaming”][vc_column_text]DPDK: Accelerate Remote Rendering of Cloud Gaming\n Jingjing Wu & Owen Zhang\, Intel \n[icon color=”Accent-Color” size=”tiny” icon_size=”” image=”fa-youtube”] Watch Video »\n[icon color=”Accent-Color” size=”tiny” icon_size=”” image=”fa-file-pdf-o”] View Slides »[/vc_column_text][vc_column_text][/vc_column_text][/toggle][toggle color=”Default” title=”Flow and HQoS DPDK Acceleration Using 100GBE Intel Programmable Acceleration”][vc_column_text]Flow and HQoS DPDK Acceleration Using 100GBE Intel Programmable Acceleration\nRosen Xu\, Intel\n \n[icon color=”Accent-Color” size=”tiny” icon_size=”” image=”fa-youtube”] Watch Video »\n[icon color=”Accent-Color” size=”tiny” icon_size=”” image=”fa-file-pdf-o”] View Slides »[/vc_column_text][vc_column_text][/vc_column_text][/toggle][toggle color=”Default” title=”Balancing Application Performance and Portability”][vc_column_text] Balancing Application Performance and Portability\nTim O’Driscoll\, Intel \n[icon color=”Accent-Color” size=”tiny” icon_size=”” image=”fa-youtube”] Watch Video »\n[icon color=”Accent-Color” size=”tiny” icon_size=”” image=”fa-file-pdf-o”] View Slides »[/vc_column_text][vc_column_text][/vc_column_text][/toggle][toggle color=”Default” title=”Vhost and virtio on ARMv8 performance tuning and optimization”][vc_column_text]Vhost and virtio on ARMv8 performance tuning and optimization\nJoyce Kong & Gaven Hu\, Arm \n[icon color=”Accent-Color” size=”tiny” icon_size=”” image=”fa-youtube”] Watch Video »\n[icon color=”Accent-Color” size=”tiny” icon_size=”” image=”fa-file-pdf-o”] View Slides »[/vc_column_text][vc_column_text][/vc_column_text][/toggle][toggle color=”Default” title=”Practice of ovsdpdk in Baidu”][vc_column_text]Practice of ovsdpdk in Baidu\nLinsi Yuan\, Baidu \n[icon color=”Accent-Color” size=”tiny” icon_size=”” image=”fa-youtube”] Watch Video »\n[icon color=”Accent-Color” size=”tiny” icon_size=”” image=”fa-file-pdf-o”] View Slides »[/vc_column_text][vc_column_text][/vc_column_text][/toggle][toggle color=”Default” title=”Integrating AF_XDP into DPDK”][vc_column_text]Integrating AF_XDP into DPDK\nXiaolong Ye\, Intel \n[icon color=”Accent-Color” size=”tiny” icon_size=”” image=”fa-youtube”] Watch Video »\n[icon color=”Accent-Color” size=”tiny” icon_size=”” image=”fa-file-pdf-o”] View Slides »[/vc_column_text][vc_column_text][/vc_column_text][/toggle][/toggles][/vc_column][/vc_row][vc_row type=”in_container” full_screen_row_position=”middle” scene_position=”center” text_color=”dark” text_align=”left” overlay_strength=”0.3″ shape_divider_position=”bottom” bg_image_animation=”none”][vc_column column_padding=”no-extra-padding” column_padding_position=”all” background_color_opacity=”1″ background_hover_color_opacity=”1″ column_link_target=”_self” column_shadow=”none” column_border_radius=”none” width=”1/1″ tablet_width_inherit=”default” tablet_text_alignment=”default” phone_text_alignment=”default” column_border_width=”none” column_border_style=”solid” bg_image_animation=”none”][vc_column_text]\n\n[/vc_column_text][/vc_column][/vc_row]
URL:https://www.dpdk.org/event/dpdk-china-june-24th-2019/
LOCATION:上海世博中心 Shanghai Expo Centre\, 1500 Shibo Avenue\, Shanghai\, Shanghai\, China
END:VEVENT
END:VCALENDAR